BEGIN:VCALENDAR
VERSION:2.0
PRODID:-//Adhiparasakthi Siddhar Peetam (UK) - ECPv6.7.0//NONSGML v1.0//EN
CALSCALE:GREGORIAN
METHOD:PUBLISH
X-WR-CALNAME:Adhiparasakthi Siddhar Peetam (UK)
X-ORIGINAL-URL:https://www.adhiparasakthi.co.uk
X-WR-CALDESC:Events for Adhiparasakthi Siddhar Peetam (UK)
REFRESH-INTERVAL;VALUE=DURATION:PT1H
X-Robots-Tag:noindex
X-PUBLISHED-TTL:PT1H
BEGIN:VTIMEZONE
TZID:Europe/London
BEGIN:DAYLIGHT
TZOFFSETFROM:+0000
TZOFFSETTO:+0100
TZNAME:BST
DTSTART:20230326T010000
END:DAYLIGHT
BEGIN:STANDARD
TZOFFSETFROM:+0100
TZOFFSETTO:+0000
TZNAME:GMT
DTSTART:20231029T010000
END:STANDARD
END:VTIMEZONE
BEGIN:VEVENT
DTSTART;VALUE=DATE:20230101
DTEND;VALUE=DATE:20230102
DTSTAMP:20260426T051756
CREATED:20230315T134042Z
LAST-MODIFIED:20230315T134042Z
UID:12621-1672531200-1672617599@www.adhiparasakthi.co.uk
SUMMARY:ஆங்கில வருடப்பிறப்பு
DESCRIPTION:
URL:https://www.adhiparasakthi.co.uk/event/%e0%ae%86%e0%ae%99%e0%af%8d%e0%ae%95%e0%ae%bf%e0%ae%b2-%e0%ae%b5%e0%ae%b0%e0%af%81%e0%ae%9f%e0%ae%aa%e0%af%8d%e0%ae%aa%e0%ae%bf%e0%ae%b1%e0%ae%aa%e0%af%8d%e0%ae%aa%e0%af%81
CATEGORIES:ஆலய சிறப்பு வழிபாடுகள்
END:VEVENT
BEGIN:VEVENT
DTSTART;VALUE=DATE:20230106
DTEND;VALUE=DATE:20230107
DTSTAMP:20260426T051756
CREATED:20230315T134211Z
LAST-MODIFIED:20230315T134211Z
UID:12623-1672963200-1673049599@www.adhiparasakthi.co.uk
SUMMARY:பௌர்ணமி ஓம்சக்தி விளக்கு பூஜை
DESCRIPTION:
URL:https://www.adhiparasakthi.co.uk/event/%e0%ae%aa%e0%af%8c%e0%ae%b0%e0%af%8d%e0%ae%a3%e0%ae%ae%e0%ae%bf-%e0%ae%93%e0%ae%ae%e0%af%8d%e0%ae%9a%e0%ae%95%e0%af%8d%e0%ae%a4%e0%ae%bf-%e0%ae%b5%e0%ae%bf%e0%ae%b3%e0%ae%95%e0%af%8d%e0%ae%95%e0%af%81
CATEGORIES:ஆலய சிறப்பு வழிபாடுகள்
END:VEVENT
BEGIN:VEVENT
DTSTART;VALUE=DATE:20230115
DTEND;VALUE=DATE:20230116
DTSTAMP:20260426T051756
CREATED:20230315T134401Z
LAST-MODIFIED:20230315T134401Z
UID:12625-1673740800-1673827199@www.adhiparasakthi.co.uk
SUMMARY:தை பொங்கல்
DESCRIPTION:
URL:https://www.adhiparasakthi.co.uk/event/%e0%ae%a4%e0%af%88-%e0%ae%aa%e0%af%8a%e0%ae%99%e0%af%8d%e0%ae%95%e0%ae%b2%e0%af%8d
CATEGORIES:ஆலய சிறப்பு வழிபாடுகள்
END:VEVENT
BEGIN:VEVENT
DTSTART;VALUE=DATE:20230121
DTEND;VALUE=DATE:20230122
DTSTAMP:20260426T051756
CREATED:20230315T134520Z
LAST-MODIFIED:20230315T134520Z
UID:12627-1674259200-1674345599@www.adhiparasakthi.co.uk
SUMMARY:அமாவாசை - வேள்வி
DESCRIPTION:
URL:https://www.adhiparasakthi.co.uk/event/%e0%ae%85%e0%ae%ae%e0%ae%be%e0%ae%b5%e0%ae%be%e0%ae%9a%e0%af%88-%e0%ae%b5%e0%af%87%e0%ae%b3%e0%af%8d%e0%ae%b5%e0%ae%bf-13
CATEGORIES:ஆலய சிறப்பு வழிபாடுகள்
END:VEVENT
END:VCALENDAR