BEGIN:VCALENDAR
VERSION:2.0
PRODID:-//Adhiparasakthi Siddhar Peetam (UK) - ECPv6.7.0//NONSGML v1.0//EN
CALSCALE:GREGORIAN
METHOD:PUBLISH
X-ORIGINAL-URL:https://www.adhiparasakthi.co.uk
X-WR-CALDESC:Events for Adhiparasakthi Siddhar Peetam (UK)
REFRESH-INTERVAL;VALUE=DURATION:PT1H
X-Robots-Tag:noindex
X-PUBLISHED-TTL:PT1H
BEGIN:VTIMEZONE
TZID:Europe/London
BEGIN:DAYLIGHT
TZOFFSETFROM:+0000
TZOFFSETTO:+0100
TZNAME:BST
DTSTART:20230326T010000
END:DAYLIGHT
BEGIN:STANDARD
TZOFFSETFROM:+0100
TZOFFSETTO:+0000
TZNAME:GMT
DTSTART:20231029T010000
END:STANDARD
END:VTIMEZONE
BEGIN:VEVENT
DTSTART;VALUE=DATE:20231014
DTEND;VALUE=DATE:20231015
DTSTAMP:20260425T175750
CREATED:20230315T143149Z
LAST-MODIFIED:20230315T143149Z
UID:12674-1697241600-1697327999@www.adhiparasakthi.co.uk
SUMMARY:அமாவாசை  வேள்வி
DESCRIPTION:
URL:https://www.adhiparasakthi.co.uk/event/%e0%ae%85%e0%ae%ae%e0%ae%be%e0%ae%b5%e0%ae%be%e0%ae%9a%e0%af%88-%e0%ae%b5%e0%af%87%e0%ae%b3%e0%af%8d%e0%ae%b5%e0%ae%bf-22
CATEGORIES:ஆலய சிறப்பு வழிபாடுகள்
END:VEVENT
BEGIN:VEVENT
DTSTART;VALUE=DATE:20231015
DTEND;VALUE=DATE:20231016
DTSTAMP:20260425T175750
CREATED:20230315T143416Z
LAST-MODIFIED:20230315T143416Z
UID:12676-1697328000-1697414399@www.adhiparasakthi.co.uk
SUMMARY:சித்தர்பீடத்தில் நவராத்திரி பெருவிழா ஆரம்பம்
DESCRIPTION:
URL:https://www.adhiparasakthi.co.uk/event/%e0%ae%9a%e0%ae%bf%e0%ae%a4%e0%af%8d%e0%ae%a4%e0%ae%b0%e0%af%8d%e0%ae%aa%e0%af%80%e0%ae%9f%e0%ae%a4%e0%af%8d%e0%ae%a4%e0%ae%bf%e0%ae%b2%e0%af%8d-%e0%ae%a8%e0%ae%b5%e0%ae%b0%e0%ae%be%e0%ae%a4%e0%af%8d
CATEGORIES:ஆலய சிறப்பு வழிபாடுகள்
END:VEVENT
BEGIN:VEVENT
DTSTART;VALUE=DATE:20231028
DTEND;VALUE=DATE:20231029
DTSTAMP:20260425T175750
CREATED:20230315T143550Z
LAST-MODIFIED:20230315T143550Z
UID:12678-1698451200-1698537599@www.adhiparasakthi.co.uk
SUMMARY:பௌர்ணமி ஓம்சக்தி விளக்கு பூஜை
DESCRIPTION:
URL:https://www.adhiparasakthi.co.uk/event/%e0%ae%aa%e0%af%8c%e0%ae%b0%e0%af%8d%e0%ae%a3%e0%ae%ae%e0%ae%bf-%e0%ae%93%e0%ae%ae%e0%af%8d%e0%ae%9a%e0%ae%95%e0%af%8d%e0%ae%a4%e0%ae%bf-%e0%ae%b5%e0%ae%bf%e0%ae%b3%e0%ae%95%e0%af%8d%e0%ae%95-9
CATEGORIES:ஆலய சிறப்பு வழிபாடுகள்
END:VEVENT
BEGIN:VEVENT
DTSTART;VALUE=DATE:20231113
DTEND;VALUE=DATE:20231114
DTSTAMP:20260425T175750
CREATED:20230315T143853Z
LAST-MODIFIED:20230315T143855Z
UID:12680-1699833600-1699919999@www.adhiparasakthi.co.uk
SUMMARY:அமாவாசை  வேள்வி
DESCRIPTION:
URL:https://www.adhiparasakthi.co.uk/event/%e0%ae%85%e0%ae%ae%e0%ae%be%e0%ae%b5%e0%ae%be%e0%ae%9a%e0%af%88-%e0%ae%b5%e0%af%87%e0%ae%b3%e0%af%8d%e0%ae%b5%e0%ae%bf-23
CATEGORIES:ஆலய சிறப்பு வழிபாடுகள்
END:VEVENT
BEGIN:VEVENT
DTSTART;VALUE=DATE:20231127
DTEND;VALUE=DATE:20231128
DTSTAMP:20260425T175750
CREATED:20230315T144035Z
LAST-MODIFIED:20230315T144035Z
UID:12682-1701043200-1701129599@www.adhiparasakthi.co.uk
SUMMARY:பௌர்ணமி ஓம்சக்தி விளக்கு பூஜை
DESCRIPTION:
URL:https://www.adhiparasakthi.co.uk/event/%e0%ae%aa%e0%af%8c%e0%ae%b0%e0%af%8d%e0%ae%a3%e0%ae%ae%e0%ae%bf-%e0%ae%93%e0%ae%ae%e0%af%8d%e0%ae%9a%e0%ae%95%e0%af%8d%e0%ae%a4%e0%ae%bf-%e0%ae%b5%e0%ae%bf%e0%ae%b3%e0%ae%95%e0%af%8d%e0%ae%95-10
CATEGORIES:ஆலய சிறப்பு வழிபாடுகள்
END:VEVENT
BEGIN:VEVENT
DTSTART;VALUE=DATE:20231212
DTEND;VALUE=DATE:20231213
DTSTAMP:20260425T175750
CREATED:20230315T144210Z
LAST-MODIFIED:20230315T144210Z
UID:12684-1702339200-1702425599@www.adhiparasakthi.co.uk
SUMMARY:அமாவாசை  வேள்வி
DESCRIPTION:
URL:https://www.adhiparasakthi.co.uk/event/%e0%ae%85%e0%ae%ae%e0%ae%be%e0%ae%b5%e0%ae%be%e0%ae%9a%e0%af%88-%e0%ae%b5%e0%af%87%e0%ae%b3%e0%af%8d%e0%ae%b5%e0%ae%bf-24
CATEGORIES:ஆலய சிறப்பு வழிபாடுகள்
END:VEVENT
BEGIN:VEVENT
DTSTART;VALUE=DATE:20231226
DTEND;VALUE=DATE:20231227
DTSTAMP:20260425T175750
CREATED:20230315T144402Z
LAST-MODIFIED:20230315T144402Z
UID:12686-1703548800-1703635199@www.adhiparasakthi.co.uk
SUMMARY:பௌர்ணமி ஓம்சக்தி விளக்கு பூஜை
DESCRIPTION:
URL:https://www.adhiparasakthi.co.uk/event/%e0%ae%aa%e0%af%8c%e0%ae%b0%e0%af%8d%e0%ae%a3%e0%ae%ae%e0%ae%bf-%e0%ae%93%e0%ae%ae%e0%af%8d%e0%ae%9a%e0%ae%95%e0%af%8d%e0%ae%a4%e0%ae%bf-%e0%ae%b5%e0%ae%bf%e0%ae%b3%e0%ae%95%e0%af%8d%e0%ae%95-11
CATEGORIES:ஆலய சிறப்பு வழிபாடுகள்
END:VEVENT
END:VCALENDAR