BEGIN:VCALENDAR
VERSION:2.0
PRODID:-//Adhiparasakthi Siddhar Peetam (UK) - ECPv6.7.0//NONSGML v1.0//EN
CALSCALE:GREGORIAN
METHOD:PUBLISH
X-WR-CALNAME:Adhiparasakthi Siddhar Peetam (UK)
X-ORIGINAL-URL:https://www.adhiparasakthi.co.uk
X-WR-CALDESC:Events for Adhiparasakthi Siddhar Peetam (UK)
REFRESH-INTERVAL;VALUE=DURATION:PT1H
X-Robots-Tag:noindex
X-PUBLISHED-TTL:PT1H
BEGIN:VTIMEZONE
TZID:Europe/London
BEGIN:DAYLIGHT
TZOFFSETFROM:+0000
TZOFFSETTO:+0100
TZNAME:BST
DTSTART:20230326T010000
END:DAYLIGHT
BEGIN:STANDARD
TZOFFSETFROM:+0100
TZOFFSETTO:+0000
TZNAME:GMT
DTSTART:20231029T010000
END:STANDARD
END:VTIMEZONE
BEGIN:VEVENT
DTSTART;VALUE=DATE:20230204
DTEND;VALUE=DATE:20230206
DTSTAMP:20260426T023649
CREATED:20230315T134818Z
LAST-MODIFIED:20230315T134818Z
UID:12629-1675468800-1675641599@www.adhiparasakthi.co.uk
SUMMARY:சித்தர்பீடத்தில் தைப்பூச ஜோதிப்  பெருவிழா
DESCRIPTION:
URL:https://www.adhiparasakthi.co.uk/event/%e0%ae%9a%e0%ae%bf%e0%ae%a4%e0%af%8d%e0%ae%a4%e0%ae%b0%e0%af%8d%e0%ae%aa%e0%af%80%e0%ae%9f%e0%ae%a4%e0%af%8d%e0%ae%a4%e0%ae%bf%e0%ae%b2%e0%af%8d-%e0%ae%a4%e0%af%88%e0%ae%aa%e0%af%8d%e0%ae%aa%e0%af%82
CATEGORIES:ஆலய சிறப்பு வழிபாடுகள்
END:VEVENT
END:VCALENDAR